Package: normalize450K Version: 1.28.0 Command: F:\biocbuild\bbs-3.17-bioc\R\bin\R.exe CMD check --no-multiarch --install=check:normalize450K.install-out.txt --library=F:\biocbuild\bbs-3.17-bioc\R\library --no-vignettes --timings normalize450K_1.28.0.tar.gz StartedAt: 2023-10-16 04:47:30 -0400 (Mon, 16 Oct 2023) EndedAt: 2023-10-16 04:48:08 -0400 (Mon, 16 Oct 2023) EllapsedTime: 38.0 seconds RetCode: 0 Status: OK CheckDir: normalize450K.Rcheck Warnings: 0