Package: normalize450K Version: 1.28.0 Command: chmod a+r normalize450K -R && F:\biocbuild\bbs-3.17-bioc\R\bin\R.exe CMD build --keep-empty-dirs --no-resave-data normalize450K StartedAt: 2023-10-15 20:53:57 -0400 (Sun, 15 Oct 2023) EndedAt: 2023-10-15 20:54:18 -0400 (Sun, 15 Oct 2023) EllapsedTime: 21.0 seconds RetCode: 0 Status: OK PackageFile: normalize450K_1.28.0.tar.gz PackageFileSize: 3.044 MiB