Package: normalize450K Version: 1.28.0 Command: rm -rf normalize450K.buildbin-libdir && mkdir normalize450K.buildbin-libdir && F:\biocbuild\bbs-3.17-bioc\R\bin\R.exe CMD INSTALL --build --library=normalize450K.buildbin-libdir normalize450K_1.28.0.tar.gz StartedAt: 2023-10-16 09:11:25 -0400 (Mon, 16 Oct 2023) EndedAt: 2023-10-16 09:11:48 -0400 (Mon, 16 Oct 2023) EllapsedTime: 22.4 seconds RetCode: 0 Status: OK PackageFile: normalize450K_1.28.0.zip PackageFileSize: 3.047 MiB