Package: normalize450K Version: 1.28.0 Command: /home/biocbuild/bbs-3.17-bioc/R/bin/R CMD INSTALL normalize450K StartedAt: 2023-10-15 15:13:18 -0400 (Sun, 15 Oct 2023) EndedAt: 2023-10-15 15:13:36 -0400 (Sun, 15 Oct 2023) EllapsedTime: 18.2 seconds RetCode: 0 Status: OK