Package: normalize450K Version: 1.28.0 Command: /Library/Frameworks/R.framework/Resources/bin/R CMD build --keep-empty-dirs --no-resave-data normalize450K StartedAt: 2023-10-15 19:56:17 -0400 (Sun, 15 Oct 2023) EndedAt: 2023-10-15 19:57:03 -0400 (Sun, 15 Oct 2023) EllapsedTime: 45.6 seconds RetCode: 0 Status: OK PackageFile: normalize450K_1.28.0.tar.gz PackageFileSize: 3.138 MiB