Package: nondetects Version: 2.30.0 Command: F:\biocbuild\bbs-3.17-bioc\R\bin\R.exe CMD check --no-multiarch --install=check:nondetects.install-out.txt --library=F:\biocbuild\bbs-3.17-bioc\R\library --no-vignettes --timings nondetects_2.30.0.tar.gz StartedAt: 2023-10-16 04:47:14 -0400 (Mon, 16 Oct 2023) EndedAt: 2023-10-16 04:53:41 -0400 (Mon, 16 Oct 2023) EllapsedTime: 386.4 seconds RetCode: 0 Status: OK CheckDir: nondetects.Rcheck Warnings: 0