Package: nondetects Version: 2.30.0 Command: chmod a+r nondetects -R && F:\biocbuild\bbs-3.17-bioc\R\bin\R.exe CMD build --keep-empty-dirs --no-resave-data nondetects StartedAt: 2023-10-15 20:53:51 -0400 (Sun, 15 Oct 2023) EndedAt: 2023-10-15 20:56:32 -0400 (Sun, 15 Oct 2023) EllapsedTime: 161.5 seconds RetCode: 0 Status: OK PackageFile: nondetects_2.30.0.tar.gz PackageFileSize: 111.9 KiB