Package: nondetects Version: 2.30.0 Command: /home/biocbuild/bbs-3.17-bioc/R/bin/R CMD check --install=check:nondetects.install-out.txt --library=/home/biocbuild/bbs-3.17-bioc/R/site-library --timings nondetects_2.30.0.tar.gz StartedAt: 2023-10-15 23:20:21 -0400 (Sun, 15 Oct 2023) EndedAt: 2023-10-15 23:26:43 -0400 (Sun, 15 Oct 2023) EllapsedTime: 382.4 seconds RetCode: 0 Status: OK CheckDir: nondetects.Rcheck Warnings: 0