Package: nnSVG Version: 1.4.2 Command: /home/biocbuild/bbs-3.17-bioc/R/bin/R CMD INSTALL nnSVG StartedAt: 2023-10-15 15:28:26 -0400 (Sun, 15 Oct 2023) EndedAt: 2023-10-15 15:28:51 -0400 (Sun, 15 Oct 2023) EllapsedTime: 24.3 seconds RetCode: 0 Status: OK