Package: nnSVG Version: 1.4.2 Command: /home/biocbuild/bbs-3.17-bioc/R/bin/R CMD build --keep-empty-dirs --no-resave-data nnSVG StartedAt: 2023-10-15 17:40:35 -0400 (Sun, 15 Oct 2023) EndedAt: 2023-10-15 17:49:48 -0400 (Sun, 15 Oct 2023) EllapsedTime: 552.7 seconds RetCode: 0 Status: OK PackageFile: nnSVG_1.4.2.tar.gz PackageFileSize: 1.326 MiB