Package: nnNorm Version: 2.64.0 Command: /home/biocbuild/bbs-3.17-bioc/R/bin/R CMD INSTALL nnNorm StartedAt: 2023-10-15 15:10:51 -0400 (Sun, 15 Oct 2023) EndedAt: 2023-10-15 15:10:58 -0400 (Sun, 15 Oct 2023) EllapsedTime: 6.9 seconds RetCode: 0 Status: OK