Package: nnNorm Version: 2.64.0 Command: /home/biocbuild/bbs-3.17-bioc/R/bin/R CMD check --install=check:nnNorm.install-out.txt --library=/home/biocbuild/bbs-3.17-bioc/R/site-library --timings nnNorm_2.64.0.tar.gz StartedAt: 2023-10-15 23:19:29 -0400 (Sun, 15 Oct 2023) EndedAt: 2023-10-15 23:21:28 -0400 (Sun, 15 Oct 2023) EllapsedTime: 118.7 seconds RetCode: 0 Status: OK CheckDir: nnNorm.Rcheck Warnings: 0