Package: nnNorm Version: 2.64.0 Command: /Library/Frameworks/R.framework/Resources/bin/R CMD INSTALL nnNorm StartedAt: 2023-10-15 15:09:23 -0400 (Sun, 15 Oct 2023) EndedAt: 2023-10-15 15:10:09 -0400 (Sun, 15 Oct 2023) EllapsedTime: 45.2 seconds RetCode: 0 Status: OK