Package: nnNorm Version: 2.64.0 Command: /Library/Frameworks/R.framework/Resources/bin/R CMD check --install=check:nnNorm.install-out.txt --library=/Library/Frameworks/R.framework/Resources/library --no-vignettes --timings nnNorm_2.64.0.tar.gz StartedAt: 2023-10-16 04:40:17 -0400 (Mon, 16 Oct 2023) EndedAt: 2023-10-16 04:43:14 -0400 (Mon, 16 Oct 2023) EllapsedTime: 176.7 seconds RetCode: 0 Status: OK CheckDir: nnNorm.Rcheck Warnings: 0