Package: nnNorm Version: 2.64.0 Command: /Library/Frameworks/R.framework/Resources/bin/R CMD build --keep-empty-dirs --no-resave-data nnNorm StartedAt: 2023-10-15 19:55:17 -0400 (Sun, 15 Oct 2023) EndedAt: 2023-10-15 19:56:43 -0400 (Sun, 15 Oct 2023) EllapsedTime: 85.5 seconds RetCode: 0 Status: OK PackageFile: nnNorm_2.64.0.tar.gz PackageFileSize: 1.59 MiB