Package: nnNorm Version: 2.64.0 Command: rm -rf nnNorm.buildbin-libdir && mkdir nnNorm.buildbin-libdir && /Users/biocbuild/BBS/utils/build-universal.sh nnNorm_2.64.0.tar.gz /Library/Frameworks/R.framework/Resources/bin/R nnNorm.buildbin-libdir StartedAt: 2023-10-16 09:50:17 -0400 (Mon, 16 Oct 2023) EndedAt: 2023-10-16 09:50:28 -0400 (Mon, 16 Oct 2023) EllapsedTime: 10.4 seconds RetCode: 0 Status: OK PackageFile: nnNorm_2.64.0.tgz PackageFileSize: 195.8 KiB