git_url: https://git.bioconductor.org/packages/nnNorm git_branch: RELEASE_3_17 git_last_commit: 1140347 git_last_commit_date: 2023-04-25 09:40:48 -0400 (Tue, 25 Apr 2023) Package: nnNorm Version: 2.64.0 Maintainer: Adi Laurentiu Tarca MaintainerEmail: atarca at med.wayne.edu