Package: ngsReports Version: 2.2.4 Command: F:\biocbuild\bbs-3.17-bioc\R\bin\R.exe CMD INSTALL ngsReports StartedAt: 2023-10-15 16:29:20 -0400 (Sun, 15 Oct 2023) EndedAt: 2023-10-15 16:29:57 -0400 (Sun, 15 Oct 2023) EllapsedTime: 37.4 seconds RetCode: 0 Status: OK