Package: ngsReports Version: 2.2.4 Command: chmod a+r ngsReports -R && F:\biocbuild\bbs-3.17-bioc\R\bin\R.exe CMD build --keep-empty-dirs --no-resave-data ngsReports StartedAt: 2023-10-15 20:52:29 -0400 (Sun, 15 Oct 2023) EndedAt: 2023-10-15 20:53:48 -0400 (Sun, 15 Oct 2023) EllapsedTime: 78.4 seconds RetCode: 0 Status: OK PackageFile: ngsReports_2.2.4.tar.gz PackageFileSize: 1.769 MiB