Package: ngsReports Version: 2.2.4 Command: rm -rf ngsReports.buildbin-libdir && mkdir ngsReports.buildbin-libdir && F:\biocbuild\bbs-3.17-bioc\R\bin\R.exe CMD INSTALL --build --library=ngsReports.buildbin-libdir ngsReports_2.2.4.tar.gz StartedAt: 2023-10-16 09:11:12 -0400 (Mon, 16 Oct 2023) EndedAt: 2023-10-16 09:11:46 -0400 (Mon, 16 Oct 2023) EllapsedTime: 34.0 seconds RetCode: 0 Status: OK PackageFile: ngsReports_2.2.4.zip PackageFileSize: 2.223 MiB