Package: ngsReports Version: 2.2.4 Command: /Library/Frameworks/R.framework/Resources/bin/R CMD build --keep-empty-dirs --no-resave-data ngsReports StartedAt: 2023-10-15 19:54:55 -0400 (Sun, 15 Oct 2023) EndedAt: 2023-10-15 19:57:26 -0400 (Sun, 15 Oct 2023) EllapsedTime: 151.6 seconds RetCode: 0 Status: OK PackageFile: ngsReports_2.2.4.tar.gz PackageFileSize: 2.966 MiB