Package: ngsReports Version: 2.2.4 Command: rm -rf ngsReports.buildbin-libdir && mkdir ngsReports.buildbin-libdir && /Users/biocbuild/BBS/utils/build-universal.sh ngsReports_2.2.4.tar.gz /Library/Frameworks/R.framework/Resources/bin/R ngsReports.buildbin-libdir StartedAt: 2023-10-16 09:50:12 -0400 (Mon, 16 Oct 2023) EndedAt: 2023-10-16 09:51:18 -0400 (Mon, 16 Oct 2023) EllapsedTime: 65.6 seconds RetCode: 0 Status: OK PackageFile: ngsReports_2.2.4.tgz PackageFileSize: 3.419 MiB