Package: netresponse Version: 1.60.0 Command: /home/biocbuild/bbs-3.17-bioc/R/bin/R CMD check --install=check:netresponse.install-out.txt --library=/home/biocbuild/bbs-3.17-bioc/R/site-library --timings netresponse_1.60.0.tar.gz StartedAt: 2023-10-15 23:18:00 -0400 (Sun, 15 Oct 2023) EndedAt: 2023-10-15 23:19:10 -0400 (Sun, 15 Oct 2023) EllapsedTime: 70.0 seconds RetCode: 0 Status: OK CheckDir: netresponse.Rcheck Warnings: 0