Package: netresponse Version: 1.60.0 Command: /Library/Frameworks/R.framework/Resources/bin/R CMD build --keep-empty-dirs --no-resave-data netresponse StartedAt: 2023-10-15 19:54:04 -0400 (Sun, 15 Oct 2023) EndedAt: 2023-10-15 19:54:38 -0400 (Sun, 15 Oct 2023) EllapsedTime: 34.1 seconds RetCode: 0 Status: OK PackageFile: netresponse_1.60.0.tar.gz PackageFileSize: 975.4 KiB