Package: netresponse Version: 1.60.0 Command: rm -rf netresponse.buildbin-libdir && mkdir netresponse.buildbin-libdir && /Users/biocbuild/BBS/utils/build-universal.sh netresponse_1.60.0.tar.gz /Library/Frameworks/R.framework/Resources/bin/R netresponse.buildbin-libdir StartedAt: 2023-10-16 09:50:03 -0400 (Mon, 16 Oct 2023) EndedAt: 2023-10-16 09:50:39 -0400 (Mon, 16 Oct 2023) EllapsedTime: 36.5 seconds RetCode: 0 Status: OK PackageFile: netresponse_1.60.0.tgz PackageFileSize: 1.29 MiB