Package: netprioR Version: 1.26.0 Command: /home/biocbuild/bbs-3.17-bioc/R/bin/R CMD build --keep-empty-dirs --no-resave-data netprioR StartedAt: 2023-10-15 17:39:28 -0400 (Sun, 15 Oct 2023) EndedAt: 2023-10-15 17:40:03 -0400 (Sun, 15 Oct 2023) EllapsedTime: 34.6 seconds RetCode: 0 Status: OK PackageFile: netprioR_1.26.0.tar.gz PackageFileSize: 515.5 KiB