Package: netboxr Version: 1.12.0 Command: F:\biocbuild\bbs-3.17-bioc\R\bin\R.exe CMD INSTALL netboxr StartedAt: 2023-10-15 16:39:11 -0400 (Sun, 15 Oct 2023) EndedAt: 2023-10-15 16:39:39 -0400 (Sun, 15 Oct 2023) EllapsedTime: 28.8 seconds RetCode: 0 Status: OK