Package: netboxr Version: 1.12.0 Command: chmod a+r netboxr -R && F:\biocbuild\bbs-3.17-bioc\R\bin\R.exe CMD build --keep-empty-dirs --no-resave-data netboxr StartedAt: 2023-10-15 20:50:18 -0400 (Sun, 15 Oct 2023) EndedAt: 2023-10-15 20:52:07 -0400 (Sun, 15 Oct 2023) EllapsedTime: 109.3 seconds RetCode: 0 Status: OK PackageFile: netboxr_1.12.0.tar.gz PackageFileSize: 1.439 MiB