Package: netboxr Version: 1.12.0 Command: /home/biocbuild/bbs-3.17-bioc/R/bin/R CMD check --install=check:netboxr.install-out.txt --library=/home/biocbuild/bbs-3.17-bioc/R/site-library --timings netboxr_1.12.0.tar.gz StartedAt: 2023-10-15 23:16:55 -0400 (Sun, 15 Oct 2023) EndedAt: 2023-10-15 23:17:00 -0400 (Sun, 15 Oct 2023) EllapsedTime: 5.0 seconds RetCode: 1 Status: ERROR CheckDir: netboxr.Rcheck Warnings: NA