Package: netboxr Version: 1.12.0 Command: /home/biocbuild/bbs-3.17-bioc/R/bin/R CMD build --keep-empty-dirs --no-resave-data netboxr StartedAt: 2023-10-15 17:38:40 -0400 (Sun, 15 Oct 2023) EndedAt: 2023-10-15 17:41:02 -0400 (Sun, 15 Oct 2023) EllapsedTime: 142.7 seconds RetCode: 0 Status: OK PackageFile: netboxr_1.12.0.tar.gz PackageFileSize: 2.359 MiB