Package: netboxr Version: 1.12.0 Command: rm -rf netboxr.buildbin-libdir && mkdir netboxr.buildbin-libdir && /Users/biocbuild/BBS/utils/build-universal.sh netboxr_1.12.0.tar.gz /Library/Frameworks/R.framework/Resources/bin/R netboxr.buildbin-libdir StartedAt: 2023-10-16 09:49:49 -0400 (Mon, 16 Oct 2023) EndedAt: 2023-10-16 09:51:17 -0400 (Mon, 16 Oct 2023) EllapsedTime: 88.6 seconds RetCode: 0 Status: OK PackageFile: netboxr_1.12.0.tgz PackageFileSize: 2.758 MiB