Package: netboost Version: 2.8.0 Command: /home/biocbuild/bbs-3.17-bioc/R/bin/R CMD build --keep-empty-dirs --no-resave-data netboost StartedAt: 2023-10-15 17:38:37 -0400 (Sun, 15 Oct 2023) EndedAt: 2023-10-15 17:39:40 -0400 (Sun, 15 Oct 2023) EllapsedTime: 62.5 seconds RetCode: 0 Status: OK PackageFile: netboost_2.8.0.tar.gz PackageFileSize: 1.074 MiB