Package: netboost Version: 2.8.0 Command: /Library/Frameworks/R.framework/Resources/bin/R CMD build --keep-empty-dirs --no-resave-data netboost StartedAt: 2023-10-15 19:52:28 -0400 (Sun, 15 Oct 2023) EndedAt: 2023-10-15 19:55:19 -0400 (Sun, 15 Oct 2023) EllapsedTime: 171.7 seconds RetCode: 0 Status: OK PackageFile: netboost_2.8.0.tar.gz PackageFileSize: 1.089 MiB