Package: netbiov Version: 1.34.0 Command: /home/biocbuild/bbs-3.17-bioc/R/bin/R CMD build --keep-empty-dirs --no-resave-data netbiov StartedAt: 2023-10-15 17:38:34 -0400 (Sun, 15 Oct 2023) EndedAt: 2023-10-15 17:42:50 -0400 (Sun, 15 Oct 2023) EllapsedTime: 256.0 seconds RetCode: 0 Status: OK PackageFile: netbiov_1.34.0.tar.gz PackageFileSize: 9.212 MiB