Package: netOmics Version: 1.6.0 Command: /Library/Frameworks/R.framework/Resources/bin/R CMD INSTALL netOmics StartedAt: 2023-10-15 16:16:24 -0400 (Sun, 15 Oct 2023) EndedAt: 2023-10-15 16:17:45 -0400 (Sun, 15 Oct 2023) EllapsedTime: 81.0 seconds RetCode: 0 Status: OK