Package: netOmics Version: 1.6.0 Command: /Library/Frameworks/R.framework/Resources/bin/R CMD check --install=check:netOmics.install-out.txt --library=/Library/Frameworks/R.framework/Resources/library --no-vignettes --timings netOmics_1.6.0.tar.gz StartedAt: 2023-10-16 04:37:07 -0400 (Mon, 16 Oct 2023) EndedAt: 2023-10-16 04:44:33 -0400 (Mon, 16 Oct 2023) EllapsedTime: 446.5 seconds RetCode: 0 Status: OK CheckDir: netOmics.Rcheck Warnings: 0