Package: netOmics Version: 1.6.0 Command: /Library/Frameworks/R.framework/Resources/bin/R CMD build --keep-empty-dirs --no-resave-data netOmics StartedAt: 2023-10-15 19:53:15 -0400 (Sun, 15 Oct 2023) EndedAt: 2023-10-15 19:55:50 -0400 (Sun, 15 Oct 2023) EllapsedTime: 154.7 seconds RetCode: 0 Status: OK PackageFile: netOmics_1.6.0.tar.gz PackageFileSize: 2.105 MiB