Package: netDx Version: 1.12.0 Command: /Library/Frameworks/R.framework/Resources/bin/R CMD INSTALL netDx StartedAt: 2023-10-15 16:05:12 -0400 (Sun, 15 Oct 2023) EndedAt: 2023-10-15 16:06:48 -0400 (Sun, 15 Oct 2023) EllapsedTime: 95.7 seconds RetCode: 0 Status: OK