Package: netDx Version: 1.12.0 Command: /Library/Frameworks/R.framework/Resources/bin/R CMD check --install=check:netDx.install-out.txt --library=/Library/Frameworks/R.framework/Resources/library --no-vignettes --timings netDx_1.12.0.tar.gz StartedAt: 2023-06-12 05:11:13 -0400 (Mon, 12 Jun 2023) EndedAt: 2023-06-12 05:41:11 -0400 (Mon, 12 Jun 2023) EllapsedTime: 1798.0 seconds RetCode: 0 Status: OK CheckDir: netDx.Rcheck Warnings: 0