Package: netDx Version: 1.12.0 Command: /Library/Frameworks/R.framework/Resources/bin/R CMD build --keep-empty-dirs --no-resave-data netDx StartedAt: 2023-10-15 19:52:49 -0400 (Sun, 15 Oct 2023) EndedAt: 2023-10-15 19:55:17 -0400 (Sun, 15 Oct 2023) EllapsedTime: 148.5 seconds RetCode: 1 Status: ERROR PackageFile: None PackageFileSize: NA