Package: ndexr Version: 1.22.0 Command: /Library/Frameworks/R.framework/Resources/bin/R CMD check --install=check:ndexr.install-out.txt --library=/Library/Frameworks/R.framework/Resources/library --no-vignettes --timings ndexr_1.22.0.tar.gz StartedAt: 2023-10-16 04:35:01 -0400 (Mon, 16 Oct 2023) EndedAt: 2023-10-16 04:36:53 -0400 (Mon, 16 Oct 2023) EllapsedTime: 112.0 seconds RetCode: 0 Status: OK CheckDir: ndexr.Rcheck Warnings: 0