Package: ndexr Version: 1.22.0 Command: /Library/Frameworks/R.framework/Resources/bin/R CMD build --keep-empty-dirs --no-resave-data ndexr StartedAt: 2023-10-15 19:51:50 -0400 (Sun, 15 Oct 2023) EndedAt: 2023-10-15 19:52:07 -0400 (Sun, 15 Oct 2023) EllapsedTime: 17.0 seconds RetCode: 0 Status: OK PackageFile: ndexr_1.22.0.tar.gz PackageFileSize: 946.9 KiB