Package: ndexr Version: 1.22.0 Command: rm -rf ndexr.buildbin-libdir && mkdir ndexr.buildbin-libdir && /Users/biocbuild/BBS/utils/build-universal.sh ndexr_1.22.0.tar.gz /Library/Frameworks/R.framework/Resources/bin/R ndexr.buildbin-libdir StartedAt: 2023-10-16 09:49:27 -0400 (Mon, 16 Oct 2023) EndedAt: 2023-10-16 09:49:37 -0400 (Mon, 16 Oct 2023) EllapsedTime: 9.4 seconds RetCode: 0 Status: OK PackageFile: ndexr_1.22.0.tgz PackageFileSize: 614.7 KiB