Package: ncdfFlow Version: 2.46.0 Command: F:\biocbuild\bbs-3.17-bioc\R\bin\R.exe CMD INSTALL ncdfFlow StartedAt: 2023-10-15 15:53:41 -0400 (Sun, 15 Oct 2023) EndedAt: 2023-10-15 15:54:12 -0400 (Sun, 15 Oct 2023) EllapsedTime: 31.4 seconds RetCode: 0 Status: OK