Package: ncdfFlow Version: 2.46.0 Command: F:\biocbuild\bbs-3.17-bioc\R\bin\R.exe CMD check --no-multiarch --install=check:ncdfFlow.install-out.txt --library=F:\biocbuild\bbs-3.17-bioc\R\library --no-vignettes --timings ncdfFlow_2.46.0.tar.gz StartedAt: 2023-10-16 04:41:23 -0400 (Mon, 16 Oct 2023) EndedAt: 2023-10-16 04:43:21 -0400 (Mon, 16 Oct 2023) EllapsedTime: 118.4 seconds RetCode: 0 Status: WARNINGS CheckDir: ncdfFlow.Rcheck Warnings: 2