Package: ncdfFlow Version: 2.46.0 Command: chmod a+r ncdfFlow -R && F:\biocbuild\bbs-3.17-bioc\R\bin\R.exe CMD build --keep-empty-dirs --no-resave-data ncdfFlow StartedAt: 2023-10-15 20:48:24 -0400 (Sun, 15 Oct 2023) EndedAt: 2023-10-15 20:49:16 -0400 (Sun, 15 Oct 2023) EllapsedTime: 52.6 seconds RetCode: 0 Status: OK PackageFile: ncdfFlow_2.46.0.tar.gz PackageFileSize: 184.5 KiB