Package: ncdfFlow Version: 2.46.0 Command: rm -rf ncdfFlow.buildbin-libdir && mkdir ncdfFlow.buildbin-libdir && F:\biocbuild\bbs-3.17-bioc\R\bin\R.exe CMD INSTALL --build --library=ncdfFlow.buildbin-libdir ncdfFlow_2.46.0.tar.gz StartedAt: 2023-10-16 09:10:25 -0400 (Mon, 16 Oct 2023) EndedAt: 2023-10-16 09:10:51 -0400 (Mon, 16 Oct 2023) EllapsedTime: 26.3 seconds RetCode: 0 Status: OK PackageFile: ncdfFlow_2.46.0.zip PackageFileSize: 1.882 MiB