Package: ncdfFlow Version: 2.46.0 Command: /home/biocbuild/bbs-3.17-bioc/R/bin/R CMD check --install=check:ncdfFlow.install-out.txt --library=/home/biocbuild/bbs-3.17-bioc/R/site-library --timings ncdfFlow_2.46.0.tar.gz StartedAt: 2023-10-15 23:14:25 -0400 (Sun, 15 Oct 2023) EndedAt: 2023-10-15 23:15:55 -0400 (Sun, 15 Oct 2023) EllapsedTime: 90.4 seconds RetCode: 0 Status: WARNINGS CheckDir: ncdfFlow.Rcheck Warnings: 3