Package: ncdfFlow Version: 2.46.0 Command: /home/biocbuild/bbs-3.17-bioc/R/bin/R CMD build --keep-empty-dirs --no-resave-data ncdfFlow StartedAt: 2023-10-15 17:38:03 -0400 (Sun, 15 Oct 2023) EndedAt: 2023-10-15 17:38:27 -0400 (Sun, 15 Oct 2023) EllapsedTime: 23.8 seconds RetCode: 0 Status: OK PackageFile: ncdfFlow_2.46.0.tar.gz PackageFileSize: 184 KiB