Package: ncdfFlow Version: 2.46.0 Command: /Library/Frameworks/R.framework/Resources/bin/R CMD build --keep-empty-dirs --no-resave-data ncdfFlow StartedAt: 2023-10-15 19:51:22 -0400 (Sun, 15 Oct 2023) EndedAt: 2023-10-15 19:52:28 -0400 (Sun, 15 Oct 2023) EllapsedTime: 65.5 seconds RetCode: 0 Status: OK PackageFile: ncdfFlow_2.46.0.tar.gz PackageFileSize: 198.5 KiB